BEGIN:VCALENDAR
VERSION:2.0
PRODID:-//Fort Myers Sunrise Rotary - ECPv6.15.20//NONSGML v1.0//EN
CALSCALE:GREGORIAN
METHOD:PUBLISH
X-WR-CALNAME:Fort Myers Sunrise Rotary
X-ORIGINAL-URL:https://fmsunriserotary.com
X-WR-CALDESC:Events for Fort Myers Sunrise Rotary
REFRESH-INTERVAL;VALUE=DURATION:PT1H
X-Robots-Tag:noindex
X-PUBLISHED-TTL:PT1H
BEGIN:VTIMEZONE
TZID:America/New_York
BEGIN:DAYLIGHT
TZOFFSETFROM:-0500
TZOFFSETTO:-0400
TZNAME:EDT
DTSTART:20220313T070000
END:DAYLIGHT
BEGIN:STANDARD
TZOFFSETFROM:-0400
TZOFFSETTO:-0500
TZNAME:EST
DTSTART:20221106T060000
END:STANDARD
BEGIN:DAYLIGHT
TZOFFSETFROM:-0500
TZOFFSETTO:-0400
TZNAME:EDT
DTSTART:20230312T070000
END:DAYLIGHT
BEGIN:STANDARD
TZOFFSETFROM:-0400
TZOFFSETTO:-0500
TZNAME:EST
DTSTART:20231105T060000
END:STANDARD
BEGIN:DAYLIGHT
TZOFFSETFROM:-0500
TZOFFSETTO:-0400
TZNAME:EDT
DTSTART:20240310T070000
END:DAYLIGHT
BEGIN:STANDARD
TZOFFSETFROM:-0400
TZOFFSETTO:-0500
TZNAME:EST
DTSTART:20241103T060000
END:STANDARD
END:VTIMEZONE
BEGIN:VEVENT
DTSTART;VALUE=DATE:20231013
DTEND;VALUE=DATE:20231030
DTSTAMP:20260422T214139
CREATED:20230921T182743Z
LAST-MODIFIED:20230921T182743Z
UID:9150-1697155200-1698623999@fmsunriserotary.com
SUMMARY:Scarecrows in the Park Fundraiser
DESCRIPTION:Scarecrows in the Park FundraiserLast 3 Weekends in October\nParking at Lakes Park\nOur club’s participation in Scarecrows in the Park starts in one month.  This is a significant fundraiser for us and helps us fund our projects throughout the year.  As in years past\, our participation is for three weekends and begins on Friday October 13.  Our final day will be Sunday October 29. \nLakes Park charges a $3 parking fee for this event and our job is to collect it for them.  This is a fun and exciting time of the year and we will be outside\, stationed at the front gate as you enter the park from Gladiolus Drive.  The park will be decorated for Halloween and will be attended by many families with small children.  We will accept cash or credit cards (via our phones) and each interaction will typically last about one minute or less. \nWe always need lots of help over the three weekends.  This year\, we will be partnering with the new Babcock Ranch club and they have already signed up for 25 slots.  That still leaves plenty to fill over the three weekends.  Remember\, you can bring family\, friends and students needing volunteer hours.  A volunteer does not need to be a Rotarian to help. \nThe sign-up link: https://volunteersignup.org/R8Y9R \nPlease visit the link and start signing up.  This is one of the fun things we do.
URL:https://fmsunriserotary.com/event/scarecrows-in-the-park-fundraiser/
LOCATION:Doubletree at Bell Tower Shops\, 13051 Bell Tower Drive\, Fort Myers\, 33907\, United States
CATEGORIES:Upcoming Events
ATTACH;FMTTYPE=image/jpeg:https://fmsunriserotary.com/wp-content/uploads/image-of-fort-myers-sunrise-rotary-hero_2.jpg
ORGANIZER;CN="Fort Myers Sunrise Rotary":MAILTO:rglsurf@comcast.net
END:VEVENT
END:VCALENDAR