BEGIN:VCALENDAR
VERSION:2.0
PRODID:-//Fort Myers Sunrise Rotary - ECPv6.15.20//NONSGML v1.0//EN
CALSCALE:GREGORIAN
METHOD:PUBLISH
X-ORIGINAL-URL:https://fmsunriserotary.com
X-WR-CALDESC:Events for Fort Myers Sunrise Rotary
REFRESH-INTERVAL;VALUE=DURATION:PT1H
X-Robots-Tag:noindex
X-PUBLISHED-TTL:PT1H
BEGIN:VTIMEZONE
TZID:America/New_York
BEGIN:DAYLIGHT
TZOFFSETFROM:-0500
TZOFFSETTO:-0400
TZNAME:EDT
DTSTART:20190310T070000
END:DAYLIGHT
BEGIN:STANDARD
TZOFFSETFROM:-0400
TZOFFSETTO:-0500
TZNAME:EST
DTSTART:20191103T060000
END:STANDARD
BEGIN:DAYLIGHT
TZOFFSETFROM:-0500
TZOFFSETTO:-0400
TZNAME:EDT
DTSTART:20200308T070000
END:DAYLIGHT
BEGIN:STANDARD
TZOFFSETFROM:-0400
TZOFFSETTO:-0500
TZNAME:EST
DTSTART:20201101T060000
END:STANDARD
BEGIN:DAYLIGHT
TZOFFSETFROM:-0500
TZOFFSETTO:-0400
TZNAME:EDT
DTSTART:20210314T070000
END:DAYLIGHT
BEGIN:STANDARD
TZOFFSETFROM:-0400
TZOFFSETTO:-0500
TZNAME:EST
DTSTART:20211107T060000
END:STANDARD
END:VTIMEZONE
BEGIN:VEVENT
DTSTART;TZID=America/New_York:20200731T130000
DTEND;TZID=America/New_York:20200731T140000
DTSTAMP:20260425T061904
CREATED:20200708T175618Z
LAST-MODIFIED:20200804T203415Z
UID:3915-1596200400-1596204000@fmsunriserotary.com
SUMMARY:INFINITE POSSIBILITIES:  Series 1: Women In Rotary
DESCRIPTION:District 6960 is excited to present INFINITE POSSIBILITIES: Women In Rotary!\nThis Four-Part Membership Series offers you the unique opportunity to hear from some of the most dynamic speakers in Rotary. The topics focus on Rotary history\, celebrations\, challenges\, vision\, encouragement\, enthusiasm\, and motivation to grow your membership!\nAs we bring major Rotary International speakers to the forefront\, we have every confidence you will find each one-hour webinar well worth your time and attention. \nThe following is our series schedule:\nJuly 31\, 2020 – Sylvia Whitlock\, 1st Female Rotary Club President\, Hosted by RI Vice President Johrita Solari and RI Director Valarie Wafer \nDid you miss Sylvia Whitlock’s Presentation? Click here to view videoAugust 28\, 2020 – Rotarian Jenny Stotts\, Boldly Leading the Way\, Hosted by RI Director Peter Kyle and PDG Vanessa Ervin \nRegister NOW for Infinite Possibilities – Jenny Stotts\, 1:00 pm EDT Friday\, August 28\, 2020September 25\, 2020 – Past RI Vice President Dean Rohrs\, Hosted by Past RI Director John Smarge and Zone 34 ARC Cyndi Doragh \nRegister NOW for Infinite Possibilities – Jenny Stotts\, 1:00 pm EDT Friday\, August 28\, 2020We will be offering a second\, Four-Part Series – INFINITE POSSIBILITIES: Diversity Equity Inclusion\, beginning January\, 2021\, so stay tuned for more exciting news to come your way!\nFor questions\, contact PDG Cyndi Doragh\, Infinite Possibilities Chair: Cyndi.Doragh@doraghlawfirm.com\nWe look forward to seeing you there!\nRotary Opens Opportunities…
URL:https://fmsunriserotary.com/event/infinite-possibilities-series-1-women-in-rotary/
CATEGORIES:Upcoming Events
ATTACH;FMTTYPE=image/jpeg:https://fmsunriserotary.com/wp-content/uploads/image-of-fort-myers-sunrise-rotary-infinite-possibilities.jpg
END:VEVENT
END:VCALENDAR