BEGIN:VCALENDAR
VERSION:2.0
PRODID:-//Fort Myers Sunrise Rotary - ECPv6.15.20//NONSGML v1.0//EN
CALSCALE:GREGORIAN
METHOD:PUBLISH
X-WR-CALNAME:Fort Myers Sunrise Rotary
X-ORIGINAL-URL:https://fmsunriserotary.com
X-WR-CALDESC:Events for Fort Myers Sunrise Rotary
REFRESH-INTERVAL;VALUE=DURATION:PT1H
X-Robots-Tag:noindex
X-PUBLISHED-TTL:PT1H
BEGIN:VTIMEZONE
TZID:America/New_York
BEGIN:DAYLIGHT
TZOFFSETFROM:-0500
TZOFFSETTO:-0400
TZNAME:EDT
DTSTART:20210314T070000
END:DAYLIGHT
BEGIN:STANDARD
TZOFFSETFROM:-0400
TZOFFSETTO:-0500
TZNAME:EST
DTSTART:20211107T060000
END:STANDARD
BEGIN:DAYLIGHT
TZOFFSETFROM:-0500
TZOFFSETTO:-0400
TZNAME:EDT
DTSTART:20220313T070000
END:DAYLIGHT
BEGIN:STANDARD
TZOFFSETFROM:-0400
TZOFFSETTO:-0500
TZNAME:EST
DTSTART:20221106T060000
END:STANDARD
BEGIN:DAYLIGHT
TZOFFSETFROM:-0500
TZOFFSETTO:-0400
TZNAME:EDT
DTSTART:20230312T070000
END:DAYLIGHT
BEGIN:STANDARD
TZOFFSETFROM:-0400
TZOFFSETTO:-0500
TZNAME:EST
DTSTART:20231105T060000
END:STANDARD
END:VTIMEZONE
BEGIN:VEVENT
DTSTART;TZID=America/New_York:20220625T180000
DTEND;TZID=America/New_York:20220625T213000
DTSTAMP:20260423T174845
CREATED:20220526T221048Z
LAST-MODIFIED:20220621T235426Z
UID:7747-1656180000-1656192600@fmsunriserotary.com
SUMMARY:Changing of the Guard - 2022-2023
DESCRIPTION:Please Join Rotary Club of Fort Myers – Sunrise.\n2022-2023 Changing of the Guard.\nSaturday\, 6/25 from 6 PM to 9:30 PM\nFlorida SouthWestern State CollegeBuilding U\, Room U-102\n8099 College Pkwy\, Fort Myers\, FL  33919\nSunrise Rotary member: $35\, Guests: $35\nREGISTERAfter registration\, credit card payments can be accepted by clicking on the link below.\nIf you prefer to pay by check\, please find Richard Hall at a regular meeting\, at the event\, or by mailing a check to Richard at 6127 Deer Run\, Fort Myers\, FL 33908. \nPaymentRobert LeSage\n2021-2022 President \nEarl Quenzel\n2022-2023 President \nAGENDA\n6:00 to 6:45 PM – Cocktails & Fellowship6:45 PM – Call to Assembly7:00 PM - Call to Order\n\nWelcome & Introductions – President\, Robert LeSage\nPledge of Allegiance – Past President\, District 6960 Grants Chair\, and Gift of Life of Florida President\, Richard Hall\nInvocation – Past District Governor\, Gary Gofarth\n\n7:15 to 8:00 PM – Dinner\n \n8:00 to 8:20 PM – President’s Remarks and Recognition – President\, Robert LeSage8:20 to 8:30 PM – 2022-2023 Officers & Directors Installation – Past District Governor\, Pete Doragh\n2022 – 2023 Incoming Officers & Directors \nPresident: Earl Quenzel \nPast-President: Robert LeSage \nPresident-Elect: Liz Christie \nNominee/Secretary: Gary Goforth \nTreasurer: Richard Hall \nSergeant at Arms: Bonnie Bolton \n2022 – 2023 Board Members \nReturning \nDavid Gallentine \nBrendan Sloan \nIncoming \nMax Costanaza \nPeggy Mouarcade \n8:30 – 8:35 PM – Passing of the Gavel – President Robert LeSage8:35 – 8:45 PM – Rotary Moment - Past District Governor\, Cyndi Doragh8:45 to 9:15 PM – President's Address – President Earl Quenzel9:15 - Rotary Four Way Test – Past President and Assistant Area Governor\, John McGowan\nThe Four Way Test of the things we think\, say\, or do. \n\nIs It the Truth?\nIs It Fair to All Concerned?\nWill It Build Goodwill and Better Friendships?\nWill It Be Beneficial to All Concerned?\n\nCan’t attend? Join us through Zoom\nONEClick on the link to our ZOOM ROOM below. With this method you can join via a desktop computer\, laptop computer\, tablet or phone. If you use a desktop or laptop you can use your regular browser or download the Zoom App for your computer. If you plan to join via a tablet or phone\, you must download the application from your phone provider’s App store. \nSunrise ZOOM RoomTWOClick on the link below and and enter meeting number 677 407 115\nSunrise ZOOM RoomTHREEDial in by phone: Call 929-205-6099 and enter meeting ID 677 407 115 when prompted.\nCALL NOW
URL:https://fmsunriserotary.com/event/changing-of-the-guard-2022-23/
LOCATION:Florida SouthWestern State College\, 8099 College Pkwy\, Fort Myers\, FL\, 33919
CATEGORIES:Change of the Guard,Upcoming Events
ATTACH;FMTTYPE=image/png:https://fmsunriserotary.com/wp-content/uploads/image-of-fort-myers-sunrise-rotary-changing-of-the-guard-e1653603161140.png
ORGANIZER;CN="Fort Myers Sunrise Rotary":MAILTO:rglsurf@comcast.net
END:VEVENT
END:VCALENDAR