BEGIN:VCALENDAR
VERSION:2.0
PRODID:-//Fort Myers Sunrise Rotary - ECPv6.15.20//NONSGML v1.0//EN
CALSCALE:GREGORIAN
METHOD:PUBLISH
X-WR-CALNAME:Fort Myers Sunrise Rotary
X-ORIGINAL-URL:https://fmsunriserotary.com
X-WR-CALDESC:Events for Fort Myers Sunrise Rotary
REFRESH-INTERVAL;VALUE=DURATION:PT1H
X-Robots-Tag:noindex
X-PUBLISHED-TTL:PT1H
BEGIN:VTIMEZONE
TZID:America/New_York
BEGIN:DAYLIGHT
TZOFFSETFROM:-0500
TZOFFSETTO:-0400
TZNAME:EDT
DTSTART:20250309T070000
END:DAYLIGHT
BEGIN:STANDARD
TZOFFSETFROM:-0400
TZOFFSETTO:-0500
TZNAME:EST
DTSTART:20251102T060000
END:STANDARD
BEGIN:DAYLIGHT
TZOFFSETFROM:-0500
TZOFFSETTO:-0400
TZNAME:EDT
DTSTART:20260308T070000
END:DAYLIGHT
BEGIN:STANDARD
TZOFFSETFROM:-0400
TZOFFSETTO:-0500
TZNAME:EST
DTSTART:20261101T060000
END:STANDARD
BEGIN:DAYLIGHT
TZOFFSETFROM:-0500
TZOFFSETTO:-0400
TZNAME:EDT
DTSTART:20270314T070000
END:DAYLIGHT
BEGIN:STANDARD
TZOFFSETFROM:-0400
TZOFFSETTO:-0500
TZNAME:EST
DTSTART:20271107T060000
END:STANDARD
END:VTIMEZONE
BEGIN:VEVENT
DTSTART;TZID=America/New_York:20260422T073000
DTEND;TZID=America/New_York:20260422T083000
DTSTAMP:20260422T014636
CREATED:20260416T143323Z
LAST-MODIFIED:20260416T144011Z
UID:11405-1776843000-1776846600@fmsunriserotary.com
SUMMARY:Featured Speaker: Cindy Orndoff
DESCRIPTION:Featured Speaker for April 22nd Meeting:Dr. Cindy Orndoff\nAI Watch\nDr. Orndoff received her J.D. in 2014 from Ave Maria Law School as well as a B.S. in 1984\, an M.S. in 1997\, and a Ph.D. in 2001\, all in Civil & Environmental Engineering from the University of Illinois Urbana Champaign. She has taught and conducted research in higher education for a land grant university\, a state university\, a state college\, as well as private universities. She has a wealth of knowledge in strategic planning\, resource acquisition\, integration\, and implementation\, particularly as it relates to enhancing the effectiveness of complex organizations. She has earned national recognition with regard to communication\, information sharing\, organizational change\, stakeholder interaction\, asset management\, and project management. She has been active in leadership and management practice issues throughout her career. She has served on many professional committees\, including the American Society of Civil Engineers\, the NSF Transportation Research Board\, the American Society of Engineering Educators\, and Community Economic Development Initiatives. She is also an entrepreneurial business owner. \nDr. Orndoff pioneered research on stakeholder consensus building among diverse groups relating to policy\, legal issues\, economics\, decision-making\, planning\, and\, importantly\, conflict resolution. Being an attorney brings added value to her consulting services. She is experienced in mediation and arbitration. She has developed a methodology to assist organizations\, including universities\, in identifying areas where bias exists in the institution and developing an action plan to address issues of bias. Improving operational efficiency has always been her goal.  Currently\, Dr. Orndoff has started a nonprofit focused on education to warn the public about the documented risks and issues with AI. The nonprofit\, AI Watch\, was founded on November 15\, 2025\, and received 501(3)(c) status on March 5\, 2026. Her website\, aiwatchnonprofit.org\, is updated regularly\, and educational presentations are available to be scheduled. \nWEEKLY SUNRISE MEETING\nJoin us on Wednesday at the DoubleTree by Hilton at Bell Tower Shops\n13051 Bell Tower Drive\, FL\, 33907\nLET US KNOW YOU ARE ATTENDING\nCan’t Make it?\nJoin our Zoom Meeting – 2 Ways to Join\nONEClick on the link to our ZOOM ROOM below. With this method you can join via a desktop computer\, laptop computer\, tablet or phone. If you use a desktop or laptop you can use your regular browser or download the Zoom App for your computer. If you plan to join via a tablet or phone\, you must download the application from your phone provider’s App store. \nSunrise ZOOM RoomTWOClick on the link below and and enter\nMeeting ID: 465 653 4071 \nSunrise ZOOM Room
URL:https://fmsunriserotary.com/event/featured-speaker-cindy-orndoff/
LOCATION:Doubletree at Bell Tower Shops\, 13051 Bell Tower Drive\, Fort Myers\, 33907\, United States
CATEGORIES:Wednesday Meeting
ATTACH;FMTTYPE=image/jpeg:https://fmsunriserotary.com/wp-content/uploads/Cindy-Orndoff.jpg
ORGANIZER;CN="Fort Myers Sunrise Rotary":MAILTO:rglsurf@comcast.net
END:VEVENT
END:VCALENDAR